BEGIN:VCALENDAR
VERSION:2.0
BEGIN:VEVENT
DTSTART:20260502T220000Z
DTEND:20260503T020000Z
SUMMARY:Club Event - Rabbit Island Domain
LOCATION:Rabbit Island / Moturoa, Richmond, Tasman, 7071
END:VEVENT
END:VCALENDAR